BEGIN:VCALENDAR
PRODID:-//eluceo/ical//2.0/EN
VERSION:2.0
CALSCALE:GREGORIAN
BEGIN:VEVENT
UID:event-370
DTSTAMP:20260420T140032Z
SUMMARY:EBF Lustrum: Etiquette Dinner
DESCRIPTION:EBF Lustrum: Etiquette Dinner During a fancy dinner at the fan
 cy Market Hotel right in the centre of Groningen on the Grote Markt\, you 
 will get the opportunity to dine with your friends whilst learning all the
  correct etiquettes that correspond with dining. Enjoy a luxurious dinner\
 , enjoy the company of many other students and a three-course dinner for a
  very very very reduced price! Don't miss out on this amazing evening.... 
 While the delicious food is being prepared\, we get the opportunity to lea
 rn all about dinner etiquettes. How should you place your napkin and your 
 cuttlery? What type of glass belongs to what type of wine? How should you 
 behave at a business dinner? These are crazy helpful skills to learn for 
 you as a manager to be... Want a three-course dinner\, a very interactive 
 and helpful workshop about etiquettes and most of all a great time with fe
 llow EBF members? And this all for just the price of 12\,50 euros? Don't l
 ook any further. When: Tuesday September 27\, 20:00  Where: Market Hotel 
 Groningen What: Luxurious three-course etiquette dinner Buy your tickets H
 ERE!      Do not want to miss anything? Make sure you follow our Lustr
 um Instagram!
DTSTART:20220927T170000Z
DTEND:20220927T210000Z
END:VEVENT
BEGIN:VTIMEZONE
TZID:UTC
BEGIN:STANDARD
DTSTART:20220927T170000
TZNAME:UTC
TZOFFSETTO:+0000
TZOFFSETFROM:+0000
END:STANDARD
END:VTIMEZONE
END:VCALENDAR
