BEGIN:VCALENDAR
PRODID:-//eluceo/ical//2.0/EN
VERSION:2.0
CALSCALE:GREGORIAN
BEGIN:VEVENT
UID:event-621
DTSTAMP:20260425T163625Z
SUMMARY:Partner Event De Nederlandsche Bank: Inhousedag Monetaire Zaken
DESCRIPTION:Maak kennis met Monetaire Zaken bij DNB! Ben jij nieuwsgierig n
 aar hoe het is om bij DNB te werken? En wat een centraal bankier nu preci
 es doet? Meld je dan aan voor deze inhousedag op 16 mei! Voor wie De inhou
 sedag staat open voor alle studenten met een affiniteit voor onder andere:
  economie\, econometrie en monetair beleid en financiele markten. Het prog
 ramma Het programma is als volgt: 13:00 - 13:15 - Welkom 13:15 - 13:45 - P
 resentatie 'Werken bij DNB' 14:00 - 16:15 - Case Stress Test 16:30 - 18:00
  - Borrel (ruimte genoeg dus om al je vragen te stellen\, en kennis te mak
 en met je mogelijke toekomstige collega’s. De case Tijdens de inhousedag
  worden jullie uitgedaagd om een stress-test case-study uit te voeren. De 
 geopolitieke spanningen in de wereld nemen toe\, waaronder de Russische in
 vasie in Oekraïne\, de oorlog in het Midden-Oosten\, de spanningen rondom
  de Zuid-Chinese Zee\, en de handelsoorlog tussen de Verenigde Staten en C
 hina. Deze ontwikkelingen kunnen mogelijk zorgen voor instabiliteit in de 
 financiële sector. In een fictieve wereld genaamd Fairyland is het aan ju
 llie de uitdaging om voor de bankensector een grondige analyse te doen naa
 r de risico’s die uit deze geopolitieke onzekerheid voortvloeien. Vervol
 gens presenteren jullie in verschillende groepjes deze analyses. Ben je kl
 aar voor deze uitdaging en ben je geïnteresseerd in het werk van DNB? Sch
 rijf je dan snel in voor deze inhousedag van DNB. Stageprogramma Centrale 
 bank - solliciteer nu! Per september 2024 start er een stageprogramma bin
 nen het domein Monetaire Zaken. Voor jou de kans om een meewerk- of afstu
 deerstage te volgen midden in de huidige economische en financiële actual
 iteit! Er zijn drie profielen waarop je kunt solliciteren: (Marco) economi
 e &amp\; monetaire economie\, Data &amp\; tech voor studenten met een kwa
 ntitatieve studieachtergrond en Financiele stabiliteit en Financiele Mark
 ten. Je leest er meer over op onze stagepagina. Hier kun je ook een solli
 citatie indienen voor een van de profielen.  Aanmelden Je kunt je aanmeld
 en tot maandag 13 mei. Na aanmelden ontvang je een bevestiging van deeln
 ame. Meld je aan!!
DTSTART:20240516T110000Z
DTEND:20240516T160000Z
END:VEVENT
BEGIN:VTIMEZONE
TZID:UTC
BEGIN:STANDARD
DTSTART:20240516T110000
TZNAME:UTC
TZOFFSETTO:+0000
TZOFFSETFROM:+0000
END:STANDARD
END:VTIMEZONE
END:VCALENDAR
