BEGIN:VCALENDAR
PRODID:-//eluceo/ical//2.0/EN
VERSION:2.0
CALSCALE:GREGORIAN
BEGIN:VEVENT
UID:event-823
DTSTAMP:20260421T091836Z
SUMMARY:EBF Active Members Day
DESCRIPTION:Dear Active Members\, On Saturday the 14th of March\, the EBF A
 ctive Members Day will take place! This special day is organized to thank 
 all active members for their dedication and hard work over the past half-y
 ear. To show our appreciation\, you can join the entire day for only €10
 .00. The day will start around 3:00 PM with fun and interactive activities
 \, giving everyone the opportunity to get to know each other better outsid
 e of committees and formal settings. It is the perfect chance to connect\,
  strengthen friendships\, and meet other active members within EBF. Afterw
 ards\, we will enjoy dinner together at News Café\, after which we will c
 ontinue the evening at Wolthers to end the day in a great way. Make sure t
 o be there\, we are looking forward to spending this amazing day together
 ! If you are unable to join during the day\, you are more than welcome to 
 join us later for dinner or the evening program.
DTSTART:20260314T140000Z
DTEND:20260314T230000Z
END:VEVENT
BEGIN:VTIMEZONE
TZID:UTC
BEGIN:STANDARD
DTSTART:20260314T140000
TZNAME:UTC
TZOFFSETTO:+0000
TZOFFSETFROM:+0000
END:STANDARD
END:VTIMEZONE
END:VCALENDAR
