BEGIN:VCALENDAR
PRODID:-//eluceo/ical//2.0/EN
VERSION:2.0
CALSCALE:GREGORIAN
BEGIN:VEVENT
UID:event-839
DTSTAMP:20260421T075717Z
SUMMARY:Alumni Event Groningen
DESCRIPTION:EBF Alumni Event Groningen On Friday the 5th of June 2026\, the
  EBF invites her Alumni to join us at the alumni event in Groningen Enjoy 
 a get together with your previous committee and/or board members! More inf
 ormation will follow later\, but make sure to save the date! Please be awa
 re that this event is meant only for EBF Alumni (old committee/board membe
 rs)
DTSTART:20260605T170000Z
DTEND:20260605T190000Z
END:VEVENT
BEGIN:VTIMEZONE
TZID:UTC
BEGIN:STANDARD
DTSTART:20260605T170000
TZNAME:UTC
TZOFFSETTO:+0000
TZOFFSETFROM:+0000
END:STANDARD
END:VTIMEZONE
END:VCALENDAR
